BEGIN:VCALENDAR
VERSION:2.0
PRODID:-//Bürgerverein Kornelimünster e.V. - ECPv6.15.18//NONSGML v1.0//EN
CALSCALE:GREGORIAN
METHOD:PUBLISH
X-ORIGINAL-URL:https://xn--brgerverein-kornelimnster-fwct.de
X-WR-CALDESC:Veranstaltungen für Bürgerverein Kornelimünster e.V.
REFRESH-INTERVAL;VALUE=DURATION:PT1H
X-Robots-Tag:noindex
X-PUBLISHED-TTL:PT1H
BEGIN:VTIMEZONE
TZID:Europe/Berlin
BEGIN:DAYLIGHT
TZOFFSETFROM:+0100
TZOFFSETTO:+0200
TZNAME:CEST
DTSTART:20250330T010000
END:DAYLIGHT
BEGIN:STANDARD
TZOFFSETFROM:+0200
TZOFFSETTO:+0100
TZNAME:CET
DTSTART:20251026T010000
END:STANDARD
BEGIN:DAYLIGHT
TZOFFSETFROM:+0100
TZOFFSETTO:+0200
TZNAME:CEST
DTSTART:20260329T010000
END:DAYLIGHT
BEGIN:STANDARD
TZOFFSETFROM:+0200
TZOFFSETTO:+0100
TZNAME:CET
DTSTART:20261025T010000
END:STANDARD
BEGIN:DAYLIGHT
TZOFFSETFROM:+0100
TZOFFSETTO:+0200
TZNAME:CEST
DTSTART:20270328T010000
END:DAYLIGHT
BEGIN:STANDARD
TZOFFSETFROM:+0200
TZOFFSETTO:+0100
TZNAME:CET
DTSTART:20271031T010000
END:STANDARD
END:VTIMEZONE
BEGIN:VEVENT
DTSTART;TZID=Europe/Berlin:20260905T080000
DTEND;TZID=Europe/Berlin:20260905T235900
DTSTAMP:20260425T122358
CREATED:20260419T142433Z
LAST-MODIFIED:20260419T142433Z
UID:2517-1788595200-1788652740@xn--brgerverein-kornelimnster-fwct.de
SUMMARY:Lange Tafel 2026 in Kornelimünster!
DESCRIPTION:Der Bürgerverein Kornelimünster e. V. lädt auch in diesem Jahr zur langen Tafel auf dem Seminarhof der ehem. Reichsabtei ein. \nWir freuen uns auf ein gemütliches\, nachbarschaftliches Beisammensein bei Speis und Trank. \nSpeisen bringt jeder Teilnehmer nach Belieben mit. Egal ob Butterbrot oder komplettes Abendmenue. Getränke können vor Ort käuflich erworben werden. \nDer Beginn des Kartenvorverkaufs und alle Infos zur Veranstaltung werden rechtzeitig auf der Homepage veröffentlicht bekanntgemacht.
URL:https://xn--brgerverein-kornelimnster-fwct.de/event/lange-tafel-2026-in-kornelimuenster/
LOCATION:Seminarhof ehem. Reichsabtei\, Abteigarten 6\, Aachen\, 52076
ATTACH;FMTTYPE=image/jpeg:https://xn--brgerverein-kornelimnster-fwct.de/wp-content/uploads/2026/04/1.jpg
END:VEVENT
BEGIN:VEVENT
DTSTART;TZID=Europe/Berlin:20260913T173000
DTEND;TZID=Europe/Berlin:20260913T183000
DTSTAMP:20260425T122358
CREATED:20260419T150314Z
LAST-MODIFIED:20260419T150314Z
UID:2530-1789320600-1789324200@xn--brgerverein-kornelimnster-fwct.de
SUMMARY:EVENSONG 2026
DESCRIPTION:13. September 2026 \nEvensong 2026\nSonntag\, 13. September 2026\n17:30 bis 18:30 \nProbsteikirche St. Kornelius\n___________________________________________________________________________ \nEin Abend. Ein Chor. Ein Kirchenraum. \nDie Schwelle zwischen Tag und Nacht. \nKlänge vergangener Jahrhunderte und aus heutiger Zeit. \nHimmelhoch-jauchzend und erdennah-besinnlich. \nSegen für das Gewesene und das Kommende. \nEin Abendgebet\, inspiriert von klösterlicher und anglikanischer Tradition. \nOffen für alle. Gut für die Seele. Trägt durch die Nacht. \nGottesbegegnung möglich. \nEvensong in Kornelimünster ist ein gemeinsames Projekt der Benediktinerabtei Kornelimünster und der Gemeinschaft der Gemeinden Kornelimünster/Roetgen\, seit 2018 regelmäßig gefeiert mit Chören der Region in der Abteikirche Kornelimünster\, Oberforstbacher Str. 71\, 52076 Aachen.
URL:https://xn--brgerverein-kornelimnster-fwct.de/event/evensong-2026-2/
LOCATION:Probsteikirche Kornelimünster\, St. Kornelius\, Aachen\, NRW\, 52076\, Deutschland
ATTACH;FMTTYPE=image/jpeg:https://xn--brgerverein-kornelimnster-fwct.de/wp-content/uploads/2026/04/evensong.jpeg
END:VEVENT
BEGIN:VEVENT
DTSTART;TZID=Europe/Berlin:20260925T193000
DTEND;TZID=Europe/Berlin:20260925T235900
DTSTAMP:20260425T122358
CREATED:20260419T141759Z
LAST-MODIFIED:20260419T141759Z
UID:2514-1790364600-1790380740@xn--brgerverein-kornelimnster-fwct.de
SUMMARY:KiK e.V. präsentiert: KAMMERKONZERT – Trio Orelon
DESCRIPTION:Konzert der Kulturinitiative Kornelimünster:\n„Beethoven: Form – Fantasie – Variation“ – Trio Orelon\nJUDITH STAPF – Violine\n\nARNAU ROVIRA I BASCOMPTE – Cello\nMARCO SANNA – Klavier\n___________________________________________________________________________ \nFreitag\, 25.09.2026\nBeginn: 19:30 UHR – Einlass: 19:00 Uhr\nINDA-Gymnasium\, Gangolfsweg 52\, Aachen-Kornelimünster
URL:https://xn--brgerverein-kornelimnster-fwct.de/event/kik-e-v-praesentiert-kammerkonzert-trio-orelon/
LOCATION:Inda-Gymnasium\, Gangolfsweg 52\, Aachen\, NRW\, 52076\, Deutschland
ATTACH;FMTTYPE=image/jpeg:https://xn--brgerverein-kornelimnster-fwct.de/wp-content/uploads/2026/04/2016-04-24_Logo_KIK.jpg
END:VEVENT
END:VCALENDAR