BEGIN:VCALENDAR
VERSION:2.0
PRODID:-//Bürgerverein Kornelimünster e.V. - ECPv6.15.18//NONSGML v1.0//EN
CALSCALE:GREGORIAN
METHOD:PUBLISH
X-WR-CALNAME:Bürgerverein Kornelimünster e.V.
X-ORIGINAL-URL:https://xn--brgerverein-kornelimnster-fwct.de
X-WR-CALDESC:Veranstaltungen für Bürgerverein Kornelimünster e.V.
REFRESH-INTERVAL;VALUE=DURATION:PT1H
X-Robots-Tag:noindex
X-PUBLISHED-TTL:PT1H
BEGIN:VTIMEZONE
TZID:Europe/Berlin
BEGIN:DAYLIGHT
TZOFFSETFROM:+0100
TZOFFSETTO:+0200
TZNAME:CEST
DTSTART:20240331T010000
END:DAYLIGHT
BEGIN:STANDARD
TZOFFSETFROM:+0200
TZOFFSETTO:+0100
TZNAME:CET
DTSTART:20241027T010000
END:STANDARD
BEGIN:DAYLIGHT
TZOFFSETFROM:+0100
TZOFFSETTO:+0200
TZNAME:CEST
DTSTART:20250330T010000
END:DAYLIGHT
BEGIN:STANDARD
TZOFFSETFROM:+0200
TZOFFSETTO:+0100
TZNAME:CET
DTSTART:20251026T010000
END:STANDARD
BEGIN:DAYLIGHT
TZOFFSETFROM:+0100
TZOFFSETTO:+0200
TZNAME:CEST
DTSTART:20260329T010000
END:DAYLIGHT
BEGIN:STANDARD
TZOFFSETFROM:+0200
TZOFFSETTO:+0100
TZNAME:CET
DTSTART:20261025T010000
END:STANDARD
END:VTIMEZONE
BEGIN:VEVENT
DTSTART;TZID=Europe/Berlin:20250118T170000
DTEND;TZID=Europe/Berlin:20250118T170000
DTSTAMP:20260421T202147
CREATED:20241205T102358Z
LAST-MODIFIED:20241205T102719Z
UID:2329-1737219600-1737219600@xn--brgerverein-kornelimnster-fwct.de
SUMMARY:Neujahrskonzert Klarinetten-Saxophon Ensemble Waldemar Bayer
DESCRIPTION:
URL:https://xn--brgerverein-kornelimnster-fwct.de/event/neujahrskonzert-klarinetten-saxophon-ensemble-waldemar-bayer/
LOCATION:Inda-Gymnasium\, Gangolfsweg 52\, Aachen\, NRW\, 52076\, Deutschland
CATEGORIES:Konzert
ATTACH;FMTTYPE=image/jpeg:https://xn--brgerverein-kornelimnster-fwct.de/wp-content/uploads/2024/12/Neujahrskonzert_Ensemble_Waldemar_Bayer_Beitragsbild.jpg
END:VEVENT
BEGIN:VEVENT
DTSTART;TZID=Europe/Berlin:20250122T200000
DTEND;TZID=Europe/Berlin:20250122T200000
DTSTAMP:20260421T202147
CREATED:20250119T140218Z
LAST-MODIFIED:20250119T141143Z
UID:2347-1737576000-1737576000@xn--brgerverein-kornelimnster-fwct.de
SUMMARY:Mitgliederversammlung 2025 des Bürgerverein Kornelimünster e. V.
DESCRIPTION:Liebe Vereinsmitglieder\, \nder Vorstand lädt alle Mitglieder zur ersten ordentlichen Mitgliederversammlung 2025 am Mittwoch\, den 22.01.2025 um 20.00 Uhr ins Pfarrheim Paradies (Korneliussaal) am Benediktusplatz ein. \nDa ein lebendiges Vereinsleben vom Mitmachen der Vereinsmitglieder abhängig ist\, würde sich der Vorstand sehr freuen\, wenn viele Mitglieder dem Verein an diesem Abend ein wenig Zeit schenken und sich im Rahmen der Versammlung aktiv mit Vorschlägen\, Anregungen oder auch Kritik einbringen und so die Entwicklung des Bürgervereins mitgestalten. \nWir freuen uns auf zahlreiche Teilnehmende. \nEuer Vorstand.
URL:https://xn--brgerverein-kornelimnster-fwct.de/event/mitgliederversammlung-2025-des-buergerverein-kornelimuenster-e-v/
LOCATION:Pfarrheim Paradies\, Benediktusplatz 1-3\, Aachen\, 52076
ATTACH;FMTTYPE=image/png:https://xn--brgerverein-kornelimnster-fwct.de/wp-content/uploads/2016/04/Logo_klein.png
END:VEVENT
END:VCALENDAR