BEGIN:VCALENDAR
VERSION:2.0
PRODID:-//Bürgerverein Kornelimünster e.V. - ECPv6.15.18//NONSGML v1.0//EN
CALSCALE:GREGORIAN
METHOD:PUBLISH
X-ORIGINAL-URL:https://xn--brgerverein-kornelimnster-fwct.de
X-WR-CALDESC:Veranstaltungen für Bürgerverein Kornelimünster e.V.
REFRESH-INTERVAL;VALUE=DURATION:PT1H
X-Robots-Tag:noindex
X-PUBLISHED-TTL:PT1H
BEGIN:VTIMEZONE
TZID:Europe/Berlin
BEGIN:DAYLIGHT
TZOFFSETFROM:+0100
TZOFFSETTO:+0200
TZNAME:CEST
DTSTART:20230326T010000
END:DAYLIGHT
BEGIN:STANDARD
TZOFFSETFROM:+0200
TZOFFSETTO:+0100
TZNAME:CET
DTSTART:20231029T010000
END:STANDARD
BEGIN:DAYLIGHT
TZOFFSETFROM:+0100
TZOFFSETTO:+0200
TZNAME:CEST
DTSTART:20240331T010000
END:DAYLIGHT
BEGIN:STANDARD
TZOFFSETFROM:+0200
TZOFFSETTO:+0100
TZNAME:CET
DTSTART:20241027T010000
END:STANDARD
BEGIN:DAYLIGHT
TZOFFSETFROM:+0100
TZOFFSETTO:+0200
TZNAME:CEST
DTSTART:20250330T010000
END:DAYLIGHT
BEGIN:STANDARD
TZOFFSETFROM:+0200
TZOFFSETTO:+0100
TZNAME:CET
DTSTART:20251026T010000
END:STANDARD
END:VTIMEZONE
BEGIN:VEVENT
DTSTART;TZID=Europe/Berlin:20241130T160000
DTEND;TZID=Europe/Berlin:20241201T180000
DTSTAMP:20260421T202320
CREATED:20241110T163921Z
LAST-MODIFIED:20241110T163921Z
UID:2297-1732982400-1733076000@xn--brgerverein-kornelimnster-fwct.de
SUMMARY:1. Advent - Weihnachtsmarkt in Kornelimünster
DESCRIPTION:Auch in diesem Jahr wird wieder der tradionelle Weihnachtsmarkt stattfinden\, organisiert von der Pfarre St. Kornelius und den Ortsvereinen von Kornelimünster\, am Samstag\, dem 30. November\, und am Sonntag\, dem 01. Dezember. Als Veranstaltungsort wird  wieder der Innenhof des Kunsthauses NRW zur Verfügung stehen. Zusätzlich können erneut die ehemalige Klosterküche und die „Turnhalle“ mitgenutzt werden. Es wird wieder eine Cafeteria ausgerichtet werden.
URL:https://xn--brgerverein-kornelimnster-fwct.de/event/1-advent-weihnachtsmarkt-in-kornelimuenster/
LOCATION:Seminarhof ehem. Reichsabtei\, Abteigarten 6\, Aachen\, 52076
ATTACH;FMTTYPE=image/jpeg:https://xn--brgerverein-kornelimnster-fwct.de/wp-content/uploads/2024/11/Markt2024-e1731256745407.jpg
END:VEVENT
BEGIN:VEVENT
DTSTART;TZID=Europe/Berlin:20241206T170000
DTEND;TZID=Europe/Berlin:20241206T213000
DTSTAMP:20260421T202320
CREATED:20241110T173021Z
LAST-MODIFIED:20241110T173021Z
UID:2321-1733504400-1733520600@xn--brgerverein-kornelimnster-fwct.de
SUMMARY:Adventfeuer - F.C. Eintracht Kornelimünster
DESCRIPTION:Die Jugendabteilung der Eintracht lädt zu einem netten Nikolausabend \nmit Musik\, Lagerfeuer\, Stockbrot Glühwein/Kaltgetränken\, Bratwurst und Pommes ein. \n6. Dezember 17.00h bis 21.30h \nSportplatz am Romerich
URL:https://xn--brgerverein-kornelimnster-fwct.de/event/adventfeuer-f-c-eintracht-kornelimuenster/
LOCATION:Sportplatz am Romerich – F. C. 1920 Eintracht Kornelimünster e. V.\, Romerich\, Aachen\, NRW\, 52076\, Deutschland
ATTACH;FMTTYPE=image/jpeg:https://xn--brgerverein-kornelimnster-fwct.de/wp-content/uploads/2024/11/EINTRLOGO.jpg
END:VEVENT
BEGIN:VEVENT
DTSTART;TZID=Europe/Berlin:20241207T100000
DTEND;TZID=Europe/Berlin:20241208T140000
DTSTAMP:20260421T202320
CREATED:20241110T164606Z
LAST-MODIFIED:20241110T164606Z
UID:2301-1733565600-1733666400@xn--brgerverein-kornelimnster-fwct.de
SUMMARY:Weihnachtsbaumverkauf
DESCRIPTION:Weihnachtsbaumverkauf der Pfadfinderinnenschaft St. Georg Stamm Knolle \n\n\n\nSa\,\n07.\nDez.\n2024\n 10:00 Uhr –\n16:00 Uhr\n\nWeihnachtsbaumverkauf (Alfons-Gerson-Straße 26a\, 52076 Aachen\, Germany)\n\n\nSo\,\n08.\nDez.\n2024\n 10:00 Uhr –\n14:00 Uhr\n\nWeihnachtsbaumverkauf (Alfons-Gerson-Straße 26a\, 52076 Aachen\, Germany)
URL:https://xn--brgerverein-kornelimnster-fwct.de/event/weihnachtsbaumverkauf-2/
LOCATION:KiTa Alfons-Gerson-Straße\, Alfons-Gerson-Straße 26a\, Aachen\, NRW\, 52076\, Deutschland
ATTACH;FMTTYPE=image/png:https://xn--brgerverein-kornelimnster-fwct.de/wp-content/uploads/2017/12/logo.png
END:VEVENT
BEGIN:VEVENT
DTSTART;TZID=Europe/Berlin:20241208T170000
DTEND;TZID=Europe/Berlin:20241208T180000
DTSTAMP:20260421T202320
CREATED:20241110T170836Z
LAST-MODIFIED:20241110T170836Z
UID:2313-1733677200-1733680800@xn--brgerverein-kornelimnster-fwct.de
SUMMARY:Adventskonzert
DESCRIPTION:08.12.2024\n\n\n17:00 – 18:00\n\n\nAdventskonzert\nBenediktinerabtei Kornelimünster\, Kornelimünster\n\n\n\n\nCHORnelimünster e.V.\n52076 Aachen
URL:https://xn--brgerverein-kornelimnster-fwct.de/event/adventskonzert-2/
LOCATION:Benediktinerabtei\, Oberforstbacher Straße 71\, Aachen\, NRW\, 52078
ATTACH;FMTTYPE=image/jpeg:https://xn--brgerverein-kornelimnster-fwct.de/wp-content/uploads/2020/02/Logo_blau_klein.jpg
END:VEVENT
END:VCALENDAR