BEGIN:VCALENDAR
VERSION:2.0
PRODID:-//Bürgerverein Kornelimünster e.V. - ECPv6.15.18//NONSGML v1.0//EN
CALSCALE:GREGORIAN
METHOD:PUBLISH
X-WR-CALNAME:Bürgerverein Kornelimünster e.V.
X-ORIGINAL-URL:https://xn--brgerverein-kornelimnster-fwct.de
X-WR-CALDESC:Veranstaltungen für Bürgerverein Kornelimünster e.V.
REFRESH-INTERVAL;VALUE=DURATION:PT1H
X-Robots-Tag:noindex
X-PUBLISHED-TTL:PT1H
BEGIN:VTIMEZONE
TZID:Europe/Berlin
BEGIN:DAYLIGHT
TZOFFSETFROM:+0100
TZOFFSETTO:+0200
TZNAME:CEST
DTSTART:20220327T010000
END:DAYLIGHT
BEGIN:STANDARD
TZOFFSETFROM:+0200
TZOFFSETTO:+0100
TZNAME:CET
DTSTART:20221030T010000
END:STANDARD
BEGIN:DAYLIGHT
TZOFFSETFROM:+0100
TZOFFSETTO:+0200
TZNAME:CEST
DTSTART:20230326T010000
END:DAYLIGHT
BEGIN:STANDARD
TZOFFSETFROM:+0200
TZOFFSETTO:+0100
TZNAME:CET
DTSTART:20231029T010000
END:STANDARD
BEGIN:DAYLIGHT
TZOFFSETFROM:+0100
TZOFFSETTO:+0200
TZNAME:CEST
DTSTART:20240331T010000
END:DAYLIGHT
BEGIN:STANDARD
TZOFFSETFROM:+0200
TZOFFSETTO:+0100
TZNAME:CET
DTSTART:20241027T010000
END:STANDARD
END:VTIMEZONE
BEGIN:VEVENT
DTSTART;TZID=Europe/Berlin:20231111T180000
DTEND;TZID=Europe/Berlin:20231111T235900
DTSTAMP:20260421T060201
CREATED:20231029T061411Z
LAST-MODIFIED:20231029T061411Z
UID:2088-1699725600-1699747140@xn--brgerverein-kornelimnster-fwct.de
SUMMARY:Ordensfest der  KG Orjenal Mönster Jonge 1971 e. V.
DESCRIPTION:Im November startet die KG Kornelimünster Orjenal Mönster Jonge wieder traditionsgemäß in die neue Session.\nDas Ordensfest findet am Samstag\, den 11.11.2023 im Schützenhaus der Bürgerschützengesellschaft Kornelimünster\, Alfons-Gerson-Str. (neben der Feuerwehr) in Kornelimünster statt. Mariechen\, Garden und Showtanzgruppen der OMJ werden ihre neuesten Tänze präsentieren.\nDer Eintritt ist frei!\nEinlass ist um 18.00h – Beginn 19.00h
URL:https://xn--brgerverein-kornelimnster-fwct.de/event/ordensfest-der-kg-orjenal-moenster-jonge-1971-e-v/
LOCATION:Schießstand Alfons-Gerson-Str.\, Alfons-Gerson-Str. 26a\, Aachen\, NRW\, 52076\, Deutschland
ATTACH;FMTTYPE=image/png:https://xn--brgerverein-kornelimnster-fwct.de/wp-content/uploads/2022/11/LOGO-OMJ-e1668243053219.png
END:VEVENT
BEGIN:VEVENT
DTSTART;TZID=Europe/Berlin:20231126T173000
DTEND;TZID=Europe/Berlin:20231126T190000
DTSTAMP:20260421T060201
CREATED:20231029T071500Z
LAST-MODIFIED:20231029T071500Z
UID:2103-1701019800-1701025200@xn--brgerverein-kornelimnster-fwct.de
SUMMARY:Evensong in der Benediktinerabtei Kornelimünster
DESCRIPTION:So 26. November 2023 \nEin Abend. Ein Chor. Ein Kirchenraum. \nDie Schwelle zwischen Tag und Nacht. \nKlänge vergangener Jahrhunderte und aus heutiger Zeit. \nHimmelhoch-jauchzend und erdennah-besinnlich. \nSegen für das Gewesene und das Kommende. \nEin Abendgebet\, inspiriert von klösterlicher und anglikanischer Tradition. \nOffen für alle. Gut für die Seele. Trägt durch die Nacht. \nGottesbegegnung möglich. \nEvensong in Kornelimünster ist ein gemeinsames Projekt der Benediktinerabtei Kornelimünster und der Gemeinschaft der Gemeinden Kornelimünster/Roetgen\, seit 2018 regelmäßig gefeiert mit Chören der Region in der Abteikirche Kornelimünster\, Oberforstbacher Str. 71\, 52076 Aachen.
URL:https://xn--brgerverein-kornelimnster-fwct.de/event/evensong-in-der-benediktinerabtei-kornelimuenster/
LOCATION:Benediktinerabtei\, Oberforstbacher Straße 71\, Aachen\, NRW\, 52078
ATTACH;FMTTYPE=image/png:https://xn--brgerverein-kornelimnster-fwct.de/wp-content/uploads/2023/10/221215_evensong_cornelimuenster_flyer_din_lang_vs01_page2.png
END:VEVENT
END:VCALENDAR