BEGIN:VCALENDAR
VERSION:2.0
PRODID:-//Bürgerverein Kornelimünster e.V. - ECPv6.15.18//NONSGML v1.0//EN
CALSCALE:GREGORIAN
METHOD:PUBLISH
X-WR-CALNAME:Bürgerverein Kornelimünster e.V.
X-ORIGINAL-URL:https://xn--brgerverein-kornelimnster-fwct.de
X-WR-CALDESC:Veranstaltungen für Bürgerverein Kornelimünster e.V.
REFRESH-INTERVAL;VALUE=DURATION:PT1H
X-Robots-Tag:noindex
X-PUBLISHED-TTL:PT1H
BEGIN:VTIMEZONE
TZID:Europe/Berlin
BEGIN:DAYLIGHT
TZOFFSETFROM:+0100
TZOFFSETTO:+0200
TZNAME:CEST
DTSTART:20220327T010000
END:DAYLIGHT
BEGIN:STANDARD
TZOFFSETFROM:+0200
TZOFFSETTO:+0100
TZNAME:CET
DTSTART:20221030T010000
END:STANDARD
BEGIN:DAYLIGHT
TZOFFSETFROM:+0100
TZOFFSETTO:+0200
TZNAME:CEST
DTSTART:20230326T010000
END:DAYLIGHT
BEGIN:STANDARD
TZOFFSETFROM:+0200
TZOFFSETTO:+0100
TZNAME:CET
DTSTART:20231029T010000
END:STANDARD
BEGIN:DAYLIGHT
TZOFFSETFROM:+0100
TZOFFSETTO:+0200
TZNAME:CEST
DTSTART:20240331T010000
END:DAYLIGHT
BEGIN:STANDARD
TZOFFSETFROM:+0200
TZOFFSETTO:+0100
TZNAME:CET
DTSTART:20241027T010000
END:STANDARD
END:VTIMEZONE
BEGIN:VEVENT
DTSTART;TZID=Europe/Berlin:20231014T170000
DTEND;TZID=Europe/Berlin:20231014T170000
DTSTAMP:20260421T042005
CREATED:20230912T042248Z
LAST-MODIFIED:20230912T052017Z
UID:2083-1697302800-1697302800@xn--brgerverein-kornelimnster-fwct.de
SUMMARY:Inda Live-Sound Festival 2023
DESCRIPTION:Am Samstag\, 14. Oktober 2023\, findet das dritte Inda Live-Sound Festival in der neuen Aula des Inda-Gymnasiums statt. Die Höhepunkte des Abends sind The Bollock Brothers aus Großbritannien und die The Cure-Tribute Band the obsCURE aus Belgien. Den Auftakt macht die Indie-Rockband LIGER aus Aachen. Einlass ist um 17 Uhr; das Konzert beginnt um 18 Uhr. Das Festival wird veranstaltet durch die Bürgerschützengesellschaft Kornelimünster 1412 e.V. \nNeben Altbewährtem wie The Bollock Brothers\, die bereits 2019 mit dabei waren\, sind the obsCURE zum ersten Mal in Kornelimünster. Mit den Bollock Brothers und the obsCURE wird es zwei Headliner-Shows geben. Beide Bands werden mit ihrer unvergleichlichen Show die 1980er-New Wave- und Punk-Ära wieder aufleben lassen und mit ihrer Performance das Publikum mitreißen. \nWeitere Infos und Tickets unter http://www.inda-live-sound.de
URL:https://xn--brgerverein-kornelimnster-fwct.de/event/inda-live-sound-festival-2023/
LOCATION:Inda-Gymnasium\, Gangolfsweg 52\, Aachen\, NRW\, 52076\, Deutschland
ATTACH;FMTTYPE=image/jpeg:https://xn--brgerverein-kornelimnster-fwct.de/wp-content/uploads/2023/09/Inda-Live-Sound-Festival-2023_3-Bands-Seite001.jpeg
END:VEVENT
END:VCALENDAR