BEGIN:VCALENDAR
VERSION:2.0
PRODID:-//Bürgerverein Kornelimünster e.V. - ECPv6.15.18//NONSGML v1.0//EN
CALSCALE:GREGORIAN
METHOD:PUBLISH
X-ORIGINAL-URL:https://xn--brgerverein-kornelimnster-fwct.de
X-WR-CALDESC:Veranstaltungen für Bürgerverein Kornelimünster e.V.
REFRESH-INTERVAL;VALUE=DURATION:PT1H
X-Robots-Tag:noindex
X-PUBLISHED-TTL:PT1H
BEGIN:VTIMEZONE
TZID:Europe/Berlin
BEGIN:DAYLIGHT
TZOFFSETFROM:+0100
TZOFFSETTO:+0200
TZNAME:CEST
DTSTART:20210328T010000
END:DAYLIGHT
BEGIN:STANDARD
TZOFFSETFROM:+0200
TZOFFSETTO:+0100
TZNAME:CET
DTSTART:20211031T010000
END:STANDARD
BEGIN:DAYLIGHT
TZOFFSETFROM:+0100
TZOFFSETTO:+0200
TZNAME:CEST
DTSTART:20220327T010000
END:DAYLIGHT
BEGIN:STANDARD
TZOFFSETFROM:+0200
TZOFFSETTO:+0100
TZNAME:CET
DTSTART:20221030T010000
END:STANDARD
BEGIN:DAYLIGHT
TZOFFSETFROM:+0100
TZOFFSETTO:+0200
TZNAME:CEST
DTSTART:20230326T010000
END:DAYLIGHT
BEGIN:STANDARD
TZOFFSETFROM:+0200
TZOFFSETTO:+0100
TZNAME:CET
DTSTART:20231029T010000
END:STANDARD
END:VTIMEZONE
BEGIN:VEVENT
DTSTART;TZID=Europe/Berlin:20221112T180000
DTEND;TZID=Europe/Berlin:20221112T235900
DTSTAMP:20260420T203924
CREATED:20221112T083925Z
LAST-MODIFIED:20221112T083925Z
UID:2002-1668276000-1668297540@xn--brgerverein-kornelimnster-fwct.de
SUMMARY:Auftakt in die Session mit der KG Orjenal Mönster Jonge 1971 e. V.
DESCRIPTION:Im November startet die KG Kornelimünster Orjenal Mönster Jonge wieder traditionsgemäß in die neue Session.\nDas Ordensfest findet am Samstag\, den 12.11.2022 im Schützenhaus der Bürgerschützengesellschaft Kornelimünster\, Alfons-Gerson-Str. (neben der Feuerwehr) in Kornelimünster statt. Mariechen\, Garden und Showtanzgruppen der OMJ werden ihre neuesten Tänze präsentieren.\nStimmungssänger Hubert Aretz\, die Gesangsgruppe Oecher Stadtmusikanten sowie Entertainer Artur Nolden werden für die richtige Stimmung sorgen. Der Eintritt ist frei!\nEinlass ist um 18.00h – Beginn 19.00h
URL:https://xn--brgerverein-kornelimnster-fwct.de/event/auftakt-in-die-session-mit-der-kg-orjenal-moenster-jonge-1971-e-v-4/
LOCATION:Schießstand Alfons-Gerson-Str.\, Alfons-Gerson-Str. 26a\, Aachen\, NRW\, 52076\, Deutschland
ATTACH;FMTTYPE=image/jpeg:https://xn--brgerverein-kornelimnster-fwct.de/wp-content/uploads/2017/09/2016-04-19_Logo_OMJ.jpg
END:VEVENT
BEGIN:VEVENT
DTSTART;VALUE=DATE:20221126
DTEND;VALUE=DATE:20221128
DTSTAMP:20260420T203924
CREATED:20221112T090623Z
LAST-MODIFIED:20221112T090623Z
UID:2012-1669420800-1669593599@xn--brgerverein-kornelimnster-fwct.de
SUMMARY:1. Advent 2022 – Weihnachtsmarkt in Kornelimünster
DESCRIPTION:Endlich wieder Weihnachtsmarkt in Kornelimünster! Endlich wieder Glühwein\, Waffeln und leckere Maultaschen. In diesem Jahr erstmals auf dem Seminarhof vor der ehemaligen Reichsabtei (vis á vis dem Kunsthaus NRW). Der Bürgerverein Kornelimünster e. V. ist natürlich auch wieder dabei und wird mit kulinarischem Angebot verwöhnen.\nBeginn ist am Samstag\, den 26.11.2022 (ca. 14.00h); Ende am Sonntag\, den 27.11.2022 (18.00h).
URL:https://xn--brgerverein-kornelimnster-fwct.de/event/1-advent-2022-weihnachtsmarkt-in-kornelimuenster/
LOCATION:Seminarhof ehem. Reichsabtei\, Abteigarten 6\, Aachen\, 52076
ATTACH;FMTTYPE=image/png:https://xn--brgerverein-kornelimnster-fwct.de/wp-content/uploads/2019/03/Bild-Schnee2017.png
END:VEVENT
END:VCALENDAR