BEGIN:VCALENDAR
VERSION:2.0
PRODID:-//Bürgerverein Kornelimünster e.V. - ECPv6.15.18//NONSGML v1.0//EN
CALSCALE:GREGORIAN
METHOD:PUBLISH
X-WR-CALNAME:Bürgerverein Kornelimünster e.V.
X-ORIGINAL-URL:https://xn--brgerverein-kornelimnster-fwct.de
X-WR-CALDESC:Veranstaltungen für Bürgerverein Kornelimünster e.V.
REFRESH-INTERVAL;VALUE=DURATION:PT1H
X-Robots-Tag:noindex
X-PUBLISHED-TTL:PT1H
BEGIN:VTIMEZONE
TZID:Europe/Berlin
BEGIN:DAYLIGHT
TZOFFSETFROM:+0100
TZOFFSETTO:+0200
TZNAME:CEST
DTSTART:20250330T010000
END:DAYLIGHT
BEGIN:STANDARD
TZOFFSETFROM:+0200
TZOFFSETTO:+0100
TZNAME:CET
DTSTART:20251026T010000
END:STANDARD
BEGIN:DAYLIGHT
TZOFFSETFROM:+0100
TZOFFSETTO:+0200
TZNAME:CEST
DTSTART:20260329T010000
END:DAYLIGHT
BEGIN:STANDARD
TZOFFSETFROM:+0200
TZOFFSETTO:+0100
TZNAME:CET
DTSTART:20261025T010000
END:STANDARD
BEGIN:DAYLIGHT
TZOFFSETFROM:+0100
TZOFFSETTO:+0200
TZNAME:CEST
DTSTART:20270328T010000
END:DAYLIGHT
BEGIN:STANDARD
TZOFFSETFROM:+0200
TZOFFSETTO:+0100
TZNAME:CET
DTSTART:20271031T010000
END:STANDARD
END:VTIMEZONE
BEGIN:VEVENT
DTSTART;VALUE=DATE:20261128
DTEND;VALUE=DATE:20261130
DTSTAMP:20260425T173618
CREATED:20260419T152657Z
LAST-MODIFIED:20260419T152657Z
UID:2534-1795824000-1795996799@xn--brgerverein-kornelimnster-fwct.de
SUMMARY:1. Advent – Weihnachtsmarkt in Kornelimünster
DESCRIPTION:Auch in diesem Jahr wird wieder der traditionelle Weihnachtsmarkt stattfinden\, organisiert von der Pfarre St. Kornelius und den Ortsvereinen aus Kornelimünster\, am Samstag den 28.  und Sonntag den 29. November 2026. \nSamstag von 16:00h bis 20:00h\nSonntag von 12:00h bis 18:00h\nAls Veranstaltungsort wird  wieder der Innenhof des Kunsthauses NRW zur Verfügung stehen. Zusätzlich können erneut die ehemalige Klosterküche und die „Turnhalle“ mitgenutzt werden. Es wird wieder eine Cafeteria ausgerichtet werden. \nDer Weihnachtsmarkt in Kornelimünster ist bekannt für seine gemütliche und einladendeAtmosphäre\, die durch die historische Kulisse des Veranstaltungsortes und  die  festliche  Dekoration verstärkt wird. Die Veranstaltung ist nicht- kommerziell und  wird  von  der  Propsteigemeinde St. Kornelius sowie den Ortsvereinen organisiert\, was zu einem familiären und gemeinschaftlichen Erlebnis beiträgt.
URL:https://xn--brgerverein-kornelimnster-fwct.de/event/1-advent-weihnachtsmarkt-in-kornelimuenster-2/
LOCATION:Seminarhof ehem. Reichsabtei\, Abteigarten 6\, Aachen\, 52076
ATTACH;FMTTYPE=image/jpeg:https://xn--brgerverein-kornelimnster-fwct.de/wp-content/uploads/2025/01/Weihnachstmarkt_2024_1-e1776612345820.jpg
END:VEVENT
END:VCALENDAR