BEGIN:VCALENDAR
VERSION:2.0
PRODID:-//Bürgerverein Kornelimünster e.V. - ECPv6.15.18//NONSGML v1.0//EN
CALSCALE:GREGORIAN
METHOD:PUBLISH
X-WR-CALNAME:Bürgerverein Kornelimünster e.V.
X-ORIGINAL-URL:https://xn--brgerverein-kornelimnster-fwct.de
X-WR-CALDESC:Veranstaltungen für Bürgerverein Kornelimünster e.V.
REFRESH-INTERVAL;VALUE=DURATION:PT1H
X-Robots-Tag:noindex
X-PUBLISHED-TTL:PT1H
BEGIN:VTIMEZONE
TZID:Europe/Berlin
BEGIN:DAYLIGHT
TZOFFSETFROM:+0100
TZOFFSETTO:+0200
TZNAME:CEST
DTSTART:20250330T010000
END:DAYLIGHT
BEGIN:STANDARD
TZOFFSETFROM:+0200
TZOFFSETTO:+0100
TZNAME:CET
DTSTART:20251026T010000
END:STANDARD
BEGIN:DAYLIGHT
TZOFFSETFROM:+0100
TZOFFSETTO:+0200
TZNAME:CEST
DTSTART:20260329T010000
END:DAYLIGHT
BEGIN:STANDARD
TZOFFSETFROM:+0200
TZOFFSETTO:+0100
TZNAME:CET
DTSTART:20261025T010000
END:STANDARD
BEGIN:DAYLIGHT
TZOFFSETFROM:+0100
TZOFFSETTO:+0200
TZNAME:CEST
DTSTART:20270328T010000
END:DAYLIGHT
BEGIN:STANDARD
TZOFFSETFROM:+0200
TZOFFSETTO:+0100
TZNAME:CET
DTSTART:20271031T010000
END:STANDARD
END:VTIMEZONE
BEGIN:VEVENT
DTSTART;TZID=Europe/Berlin:20261107T180000
DTEND;TZID=Europe/Berlin:20261107T235900
DTSTAMP:20260425T172533
CREATED:20260419T144850Z
LAST-MODIFIED:20260419T144850Z
UID:2524-1794074400-1794095940@xn--brgerverein-kornelimnster-fwct.de
SUMMARY:Ordensfest der KG Orjenal Mönster Jonge 1971 e. V.
DESCRIPTION:Im November startet die KG Kornelimünster Orjenal Mönster Jonge wieder traditionsgemäß in die neue Session.\nDas Ordensfest findet am Samstag\, den 07.11.2026 im Schützenhaus der Bürgerschützengesellschaft Kornelimünster\, Alfons-Gerson-Str. (neben der Feuerwehr) in Kornelimünster statt.\nMariechen\, Garden und Showtanzgruppen der OMJ werden ihre neuesten Tänze präsentieren.\nDer Eintritt ist frei!\nEinlass ist um 18.00h – Beginn 19.00h\n___________________________________________________________________________ \nWeitere Informationen zur Veranstaltung auf der Homepage der Orjenal Mönster Jonge e.V.\nVeranstaltungen – Orjenal Mönster Jonge
URL:https://xn--brgerverein-kornelimnster-fwct.de/event/ordensfest-der-kg-orjenal-moenster-jonge-1971-e-v-2/
LOCATION:Schießstand Alfons-Gerson-Str.\, Alfons-Gerson-Str. 26a\, Aachen\, NRW\, 52076\, Deutschland
ATTACH;FMTTYPE=image/png:https://xn--brgerverein-kornelimnster-fwct.de/wp-content/uploads/2024/11/LOGO-OMJ.png
END:VEVENT
END:VCALENDAR