BEGIN:VCALENDAR
VERSION:2.0
PRODID:-//Bürgerverein Kornelimünster e.V. - ECPv6.15.18//NONSGML v1.0//EN
CALSCALE:GREGORIAN
METHOD:PUBLISH
X-WR-CALNAME:Bürgerverein Kornelimünster e.V.
X-ORIGINAL-URL:https://xn--brgerverein-kornelimnster-fwct.de
X-WR-CALDESC:Veranstaltungen für Bürgerverein Kornelimünster e.V.
REFRESH-INTERVAL;VALUE=DURATION:PT1H
X-Robots-Tag:noindex
X-PUBLISHED-TTL:PT1H
BEGIN:VTIMEZONE
TZID:Europe/Berlin
BEGIN:DAYLIGHT
TZOFFSETFROM:+0100
TZOFFSETTO:+0200
TZNAME:CEST
DTSTART:20250330T010000
END:DAYLIGHT
BEGIN:STANDARD
TZOFFSETFROM:+0200
TZOFFSETTO:+0100
TZNAME:CET
DTSTART:20251026T010000
END:STANDARD
BEGIN:DAYLIGHT
TZOFFSETFROM:+0100
TZOFFSETTO:+0200
TZNAME:CEST
DTSTART:20260329T010000
END:DAYLIGHT
BEGIN:STANDARD
TZOFFSETFROM:+0200
TZOFFSETTO:+0100
TZNAME:CET
DTSTART:20261025T010000
END:STANDARD
BEGIN:DAYLIGHT
TZOFFSETFROM:+0100
TZOFFSETTO:+0200
TZNAME:CEST
DTSTART:20270328T010000
END:DAYLIGHT
BEGIN:STANDARD
TZOFFSETFROM:+0200
TZOFFSETTO:+0100
TZNAME:CET
DTSTART:20271031T010000
END:STANDARD
END:VTIMEZONE
BEGIN:VEVENT
DTSTART;TZID=Europe/Berlin:20260925T193000
DTEND;TZID=Europe/Berlin:20260925T235900
DTSTAMP:20260425T141140
CREATED:20260419T141759Z
LAST-MODIFIED:20260419T141759Z
UID:2514-1790364600-1790380740@xn--brgerverein-kornelimnster-fwct.de
SUMMARY:KiK e.V. präsentiert: KAMMERKONZERT – Trio Orelon
DESCRIPTION:Konzert der Kulturinitiative Kornelimünster:\n„Beethoven: Form – Fantasie – Variation“ – Trio Orelon\nJUDITH STAPF – Violine\n\nARNAU ROVIRA I BASCOMPTE – Cello\nMARCO SANNA – Klavier\n___________________________________________________________________________ \nFreitag\, 25.09.2026\nBeginn: 19:30 UHR – Einlass: 19:00 Uhr\nINDA-Gymnasium\, Gangolfsweg 52\, Aachen-Kornelimünster
URL:https://xn--brgerverein-kornelimnster-fwct.de/event/kik-e-v-praesentiert-kammerkonzert-trio-orelon/
LOCATION:Inda-Gymnasium\, Gangolfsweg 52\, Aachen\, NRW\, 52076\, Deutschland
ATTACH;FMTTYPE=image/jpeg:https://xn--brgerverein-kornelimnster-fwct.de/wp-content/uploads/2026/04/2016-04-24_Logo_KIK.jpg
END:VEVENT
END:VCALENDAR