BEGIN:VCALENDAR
VERSION:2.0
PRODID:-//Bürgerverein Kornelimünster e.V. - ECPv6.15.18//NONSGML v1.0//EN
CALSCALE:GREGORIAN
METHOD:PUBLISH
X-ORIGINAL-URL:https://xn--brgerverein-kornelimnster-fwct.de
X-WR-CALDESC:Veranstaltungen für Bürgerverein Kornelimünster e.V.
REFRESH-INTERVAL;VALUE=DURATION:PT1H
X-Robots-Tag:noindex
X-PUBLISHED-TTL:PT1H
BEGIN:VTIMEZONE
TZID:Europe/Berlin
BEGIN:DAYLIGHT
TZOFFSETFROM:+0100
TZOFFSETTO:+0200
TZNAME:CEST
DTSTART:20230326T010000
END:DAYLIGHT
BEGIN:STANDARD
TZOFFSETFROM:+0200
TZOFFSETTO:+0100
TZNAME:CET
DTSTART:20231029T010000
END:STANDARD
BEGIN:DAYLIGHT
TZOFFSETFROM:+0100
TZOFFSETTO:+0200
TZNAME:CEST
DTSTART:20240331T010000
END:DAYLIGHT
BEGIN:STANDARD
TZOFFSETFROM:+0200
TZOFFSETTO:+0100
TZNAME:CET
DTSTART:20241027T010000
END:STANDARD
BEGIN:DAYLIGHT
TZOFFSETFROM:+0100
TZOFFSETTO:+0200
TZNAME:CEST
DTSTART:20250330T010000
END:DAYLIGHT
BEGIN:STANDARD
TZOFFSETFROM:+0200
TZOFFSETTO:+0100
TZNAME:CET
DTSTART:20251026T010000
END:STANDARD
END:VTIMEZONE
BEGIN:VEVENT
DTSTART;TZID=Europe/Berlin:20241122T193000
DTEND;TZID=Europe/Berlin:20241122T213000
DTSTAMP:20260423T122559
CREATED:20241110T172058Z
LAST-MODIFIED:20241110T173535Z
UID:2318-1732303800-1732311000@xn--brgerverein-kornelimnster-fwct.de
SUMMARY:ZWISCHENWELTEN - ein Liederabend mit Judith und Lydia Hilgers
DESCRIPTION:KULTURINITIATIVE KORNELIMÜNSTER – KiK\nFreitag\, 22.11.2024\nBeginn: 19:30 UHR – Einlass: 19:00 Uhr\nAULA INDA-GYMNASIUM\nGangolfsweg 52\, 52076 Aachen\n\n\n\n\n\n\n\nJUDITH HILGERS – Sopran\nLYDIA HILGERS – Piano\n\n\n\n\n\n\n\n\nKartenvorverkauf\n\n\n\n\n\n\nKarten sind erhältlich ab dem 14.10.2024 zum Preis von\n20 € (Erwachsene)  – 18 € (KiK-Mitglieder) – 12 € (Schülerinnen und Schüler\, Studierende) \nVorverkaufsstellen:\n• Inda-Apotheke\, Aachen-Kornelimünster\, Schleckheimer Straße 38\n• Buchhandlung am Markt\, Aachen-Brand\, Trierer Straße 788\n• online unter: www.ticketree.de
URL:https://xn--brgerverein-kornelimnster-fwct.de/event/2318/
LOCATION:Inda-Gymnasium\, Gangolfsweg 52\, Aachen\, NRW\, 52076\, Deutschland
ATTACH;FMTTYPE=image/jpeg:https://xn--brgerverein-kornelimnster-fwct.de/wp-content/uploads/2024/11/KIKLOGO.jpg
END:VEVENT
END:VCALENDAR