BEGIN:VCALENDAR
VERSION:2.0
PRODID:-//Bürgerverein Kornelimünster e.V. - ECPv6.15.18//NONSGML v1.0//EN
CALSCALE:GREGORIAN
METHOD:PUBLISH
X-WR-CALNAME:Bürgerverein Kornelimünster e.V.
X-ORIGINAL-URL:https://xn--brgerverein-kornelimnster-fwct.de
X-WR-CALDESC:Veranstaltungen für Bürgerverein Kornelimünster e.V.
REFRESH-INTERVAL;VALUE=DURATION:PT1H
X-Robots-Tag:noindex
X-PUBLISHED-TTL:PT1H
BEGIN:VTIMEZONE
TZID:Europe/Berlin
BEGIN:DAYLIGHT
TZOFFSETFROM:+0100
TZOFFSETTO:+0200
TZNAME:CEST
DTSTART:20230326T010000
END:DAYLIGHT
BEGIN:STANDARD
TZOFFSETFROM:+0200
TZOFFSETTO:+0100
TZNAME:CET
DTSTART:20231029T010000
END:STANDARD
BEGIN:DAYLIGHT
TZOFFSETFROM:+0100
TZOFFSETTO:+0200
TZNAME:CEST
DTSTART:20240331T010000
END:DAYLIGHT
BEGIN:STANDARD
TZOFFSETFROM:+0200
TZOFFSETTO:+0100
TZNAME:CET
DTSTART:20241027T010000
END:STANDARD
BEGIN:DAYLIGHT
TZOFFSETFROM:+0100
TZOFFSETTO:+0200
TZNAME:CEST
DTSTART:20250330T010000
END:DAYLIGHT
BEGIN:STANDARD
TZOFFSETFROM:+0200
TZOFFSETTO:+0100
TZNAME:CET
DTSTART:20251026T010000
END:STANDARD
END:VTIMEZONE
BEGIN:VEVENT
DTSTART;TZID=Europe/Berlin:20240907T170000
DTEND;TZID=Europe/Berlin:20240907T235900
DTSTAMP:20260421T155855
CREATED:20231029T065446Z
LAST-MODIFIED:20240614T074211Z
UID:2101-1725728400-1725753540@xn--brgerverein-kornelimnster-fwct.de
SUMMARY:Lange Tafel 2024 im Herzen von Kornelimünster
DESCRIPTION:Startschuss für die diesjährige lange Tafel. Endlich ist es wieder soweit. Der Bürgerverein lädt im Herzen von Kornelimünster am Samstag\, dem 07.09.2024 zur langen Tafel ein. Es können ab dem 20. Juni 2024 Platzkarten gekauft werden unter: \nhttps://ticketree.de/event/lange-tafel-2024-im-herzen-von-kornelimuenster/ \nDie Kartenpreise verstehen sich inkl. Service aber exkl. Getränke. \nBei ungünstigen Witterungsverhältnissen behält sich der Verein die Absage der Veranstaltung vor. \nDas Konzept\nist schnell erklärt (Informationen und Eindrücke zur Tafel in den letzten Jahren hier\, hier\,  hier und hier): \n\n\n\nWir decken die Tafel für Sie\, Sie und Ihre Begleitung müssen nur noch Platz nehmen.\nFür Getränke (im Kartenpreis nicht enthalten) und Service (im Kartenpreis enthalten) sorgen wir.\nUm Ihr Essen kümmern Sie sich selber.  Das Motto hierbei lautet: Jeder nach seinem Gusto\, ob Fingerfood\, ob Picknick-Korb\, ob selbst gemacht oder selbst gekauft\, bleibt Ihnen überlassen.\nDie Plätze sind überdacht\, aber nicht windgeschützt.\nEinlass: 17:00 Uhr\, Beginn: 17:30 Uhr.\n\n\n\nFür den guten Zweck\nEtwaige Erlöse kommen dem Verein und damit gemeinnützigen Zwecken in Kornelimünster  zugute. Wir freuen uns darauf\, in entspannter Atmosphäre und vor schöner Kulisse Kontakte zu knüpfen und zu vertiefen. \n\n 
URL:https://xn--brgerverein-kornelimnster-fwct.de/event/save-the-date-lange-tafel-2024-save-the-date-lange-tafel-2024/
LOCATION:Seminarhof ehem. Reichsabtei\, Abteigarten 6\, Aachen\, 52076
ATTACH;FMTTYPE=image/jpeg:https://xn--brgerverein-kornelimnster-fwct.de/wp-content/uploads/2022/09/2022-09-11-Kornelimuenster-Lange-Tafel-62-scaled.jpg
END:VEVENT
END:VCALENDAR