BEGIN:VCALENDAR
VERSION:2.0
PRODID:-//Bürgerverein Kornelimünster e.V. - ECPv6.15.18//NONSGML v1.0//EN
CALSCALE:GREGORIAN
METHOD:PUBLISH
X-ORIGINAL-URL:https://xn--brgerverein-kornelimnster-fwct.de
X-WR-CALDESC:Veranstaltungen für Bürgerverein Kornelimünster e.V.
REFRESH-INTERVAL;VALUE=DURATION:PT1H
X-Robots-Tag:noindex
X-PUBLISHED-TTL:PT1H
BEGIN:VTIMEZONE
TZID:Europe/Berlin
BEGIN:DAYLIGHT
TZOFFSETFROM:+0100
TZOFFSETTO:+0200
TZNAME:CEST
DTSTART:20230326T010000
END:DAYLIGHT
BEGIN:STANDARD
TZOFFSETFROM:+0200
TZOFFSETTO:+0100
TZNAME:CET
DTSTART:20231029T010000
END:STANDARD
BEGIN:DAYLIGHT
TZOFFSETFROM:+0100
TZOFFSETTO:+0200
TZNAME:CEST
DTSTART:20240331T010000
END:DAYLIGHT
BEGIN:STANDARD
TZOFFSETFROM:+0200
TZOFFSETTO:+0100
TZNAME:CET
DTSTART:20241027T010000
END:STANDARD
BEGIN:DAYLIGHT
TZOFFSETFROM:+0100
TZOFFSETTO:+0200
TZNAME:CEST
DTSTART:20250330T010000
END:DAYLIGHT
BEGIN:STANDARD
TZOFFSETFROM:+0200
TZOFFSETTO:+0100
TZNAME:CET
DTSTART:20251026T010000
END:STANDARD
END:VTIMEZONE
BEGIN:VEVENT
DTSTART;TZID=Europe/Berlin:20240210T110000
DTEND;TZID=Europe/Berlin:20240210T170000
DTSTAMP:20260421T125517
CREATED:20231029T062807Z
LAST-MODIFIED:20240116T194959Z
UID:2097-1707562800-1707584400@xn--brgerverein-kornelimnster-fwct.de
SUMMARY:große Open Air Marktsitzung der KG Orjenal Mönster Jonge 1971 e. V.
DESCRIPTION:ab 11.00 Uhr:\nTraditionelle Open Air Marktsitzung auf dem Korneliusmarkt in Kornelimünster mit fünfstündigem\, kurzweiligem und buntem Programm.\nDer Eintritt ist frei und für das leibliche Wohl ist bestens gesorgt.
URL:https://xn--brgerverein-kornelimnster-fwct.de/event/grosse-open-air-marktsitzung-der-kg-orjenal-moenster-jonge-1971-e-v/
LOCATION:Korneliusmarkt\, 52076 Aachen\, NRW
ATTACH;FMTTYPE=image/png:https://xn--brgerverein-kornelimnster-fwct.de/wp-content/uploads/2022/11/LOGO-OMJ-e1668243053219.png
END:VEVENT
END:VCALENDAR