BEGIN:VCALENDAR
VERSION:2.0
PRODID:-//Bürgerverein Kornelimünster e.V. - ECPv6.15.18//NONSGML v1.0//EN
CALSCALE:GREGORIAN
METHOD:PUBLISH
X-ORIGINAL-URL:https://xn--brgerverein-kornelimnster-fwct.de
X-WR-CALDESC:Veranstaltungen für Bürgerverein Kornelimünster e.V.
REFRESH-INTERVAL;VALUE=DURATION:PT1H
X-Robots-Tag:noindex
X-PUBLISHED-TTL:PT1H
BEGIN:VTIMEZONE
TZID:Europe/Berlin
BEGIN:DAYLIGHT
TZOFFSETFROM:+0100
TZOFFSETTO:+0200
TZNAME:CEST
DTSTART:20210328T010000
END:DAYLIGHT
BEGIN:STANDARD
TZOFFSETFROM:+0200
TZOFFSETTO:+0100
TZNAME:CET
DTSTART:20211031T010000
END:STANDARD
BEGIN:DAYLIGHT
TZOFFSETFROM:+0100
TZOFFSETTO:+0200
TZNAME:CEST
DTSTART:20220327T010000
END:DAYLIGHT
BEGIN:STANDARD
TZOFFSETFROM:+0200
TZOFFSETTO:+0100
TZNAME:CET
DTSTART:20221030T010000
END:STANDARD
BEGIN:DAYLIGHT
TZOFFSETFROM:+0100
TZOFFSETTO:+0200
TZNAME:CEST
DTSTART:20230326T010000
END:DAYLIGHT
BEGIN:STANDARD
TZOFFSETFROM:+0200
TZOFFSETTO:+0100
TZNAME:CET
DTSTART:20231029T010000
END:STANDARD
END:VTIMEZONE
BEGIN:VEVENT
DTSTART;TZID=Europe/Berlin:20221210T100000
DTEND;TZID=Europe/Berlin:20221210T235900
DTSTAMP:20260420T233302
CREATED:20221112T083312Z
LAST-MODIFIED:20221112T083312Z
UID:2000-1670666400-1670716740@xn--brgerverein-kornelimnster-fwct.de
SUMMARY:Weihnachtsbaumverkauf
DESCRIPTION:Weihnachtsbaumverkauf durch die Pfadfinderschaft St. Georg/Stamm Kornelimünster auf dem Schulhof der Kath. Grundschule Kornelimünster am Abteigarten. Bäume aus dem Sauerland; solange der Vorrat reicht. Mit dem Kauf unterstützen Sie die ehrenamtliche Kinder- und Jugendarbeit.  
URL:https://xn--brgerverein-kornelimnster-fwct.de/event/weihnachtsbaumverkauf/
LOCATION:Städtische Katholische Grundschule Kornelimünster\, Abteigarten 15\, Aachen\, NRW\, 52076\, Deutschland
ATTACH;FMTTYPE=image/png:https://xn--brgerverein-kornelimnster-fwct.de/wp-content/uploads/2017/12/logo.png
END:VEVENT
END:VCALENDAR