BEGIN:VCALENDAR
VERSION:2.0
PRODID:-//Bürgerverein Kornelimünster e.V. - ECPv6.15.18//NONSGML v1.0//EN
CALSCALE:GREGORIAN
METHOD:PUBLISH
X-WR-CALNAME:Bürgerverein Kornelimünster e.V.
X-ORIGINAL-URL:https://xn--brgerverein-kornelimnster-fwct.de
X-WR-CALDESC:Veranstaltungen für Bürgerverein Kornelimünster e.V.
REFRESH-INTERVAL;VALUE=DURATION:PT1H
X-Robots-Tag:noindex
X-PUBLISHED-TTL:PT1H
BEGIN:VTIMEZONE
TZID:Europe/Berlin
BEGIN:DAYLIGHT
TZOFFSETFROM:+0100
TZOFFSETTO:+0200
TZNAME:CEST
DTSTART:20160327T010000
END:DAYLIGHT
BEGIN:STANDARD
TZOFFSETFROM:+0200
TZOFFSETTO:+0100
TZNAME:CET
DTSTART:20161030T010000
END:STANDARD
BEGIN:DAYLIGHT
TZOFFSETFROM:+0100
TZOFFSETTO:+0200
TZNAME:CEST
DTSTART:20170326T010000
END:DAYLIGHT
BEGIN:STANDARD
TZOFFSETFROM:+0200
TZOFFSETTO:+0100
TZNAME:CET
DTSTART:20171029T010000
END:STANDARD
BEGIN:DAYLIGHT
TZOFFSETFROM:+0100
TZOFFSETTO:+0200
TZNAME:CEST
DTSTART:20180325T010000
END:DAYLIGHT
BEGIN:STANDARD
TZOFFSETFROM:+0200
TZOFFSETTO:+0100
TZNAME:CET
DTSTART:20181028T010000
END:STANDARD
END:VTIMEZONE
BEGIN:VEVENT
DTSTART;TZID=Europe/Berlin:20170311T190000
DTEND;TZID=Europe/Berlin:20170311T220000
DTSTAMP:20260422T025701
CREATED:20170309T061806Z
LAST-MODIFIED:20170309T061806Z
UID:752-1489258800-1489269600@xn--brgerverein-kornelimnster-fwct.de
SUMMARY:Jugendgottesdienst „Poetry Slam meets Rockandacht“
DESCRIPTION:Am kommenden Samstag\, 11.03.2017\,  19.00 Uhr\, findet im Evang. Gemeindezentrum Kornelimünster der nächste Jugendgottesdienst unter dem Motto „Poetry Slam meets Rockandacht“ statt. Diese Veranstaltung findet inzwischen eine große Resonanz weit über die Gemeindegrenzen hinaus. Weitere Informationen finden Sie im Anhang
URL:https://xn--brgerverein-kornelimnster-fwct.de/event/jugendgottesdienst-poetry-slam-meets-rockandacht/
LOCATION:Evangelisches Gemeindezentrum Kornelimünster\, Schleckheimer Straße 14-16\, Aachen\, 52076
ATTACH;FMTTYPE=image/jpeg:https://xn--brgerverein-kornelimnster-fwct.de/wp-content/uploads/2017/03/Angedacht_vol5_-_Plakat_DINA4_v01.jpg
END:VEVENT
END:VCALENDAR