BEGIN:VCALENDAR
VERSION:2.0
PRODID:-//Bürgerverein Kornelimünster e.V. - ECPv6.15.18//NONSGML v1.0//EN
CALSCALE:GREGORIAN
METHOD:PUBLISH
X-ORIGINAL-URL:https://xn--brgerverein-kornelimnster-fwct.de
X-WR-CALDESC:Veranstaltungen für Bürgerverein Kornelimünster e.V.
REFRESH-INTERVAL;VALUE=DURATION:PT1H
X-Robots-Tag:noindex
X-PUBLISHED-TTL:PT1H
BEGIN:VTIMEZONE
TZID:Europe/Berlin
BEGIN:DAYLIGHT
TZOFFSETFROM:+0100
TZOFFSETTO:+0200
TZNAME:CEST
DTSTART:20160327T010000
END:DAYLIGHT
BEGIN:STANDARD
TZOFFSETFROM:+0200
TZOFFSETTO:+0100
TZNAME:CET
DTSTART:20161030T010000
END:STANDARD
BEGIN:DAYLIGHT
TZOFFSETFROM:+0100
TZOFFSETTO:+0200
TZNAME:CEST
DTSTART:20170326T010000
END:DAYLIGHT
BEGIN:STANDARD
TZOFFSETFROM:+0200
TZOFFSETTO:+0100
TZNAME:CET
DTSTART:20171029T010000
END:STANDARD
BEGIN:DAYLIGHT
TZOFFSETFROM:+0100
TZOFFSETTO:+0200
TZNAME:CEST
DTSTART:20180325T010000
END:DAYLIGHT
BEGIN:STANDARD
TZOFFSETFROM:+0200
TZOFFSETTO:+0100
TZNAME:CET
DTSTART:20181028T010000
END:STANDARD
END:VTIMEZONE
BEGIN:VEVENT
DTSTART;TZID=Europe/Berlin:20170222T193000
DTEND;TZID=Europe/Berlin:20170222T235500
DTSTAMP:20260421T204626
CREATED:20161006T202934Z
LAST-MODIFIED:20161006T202934Z
UID:513-1487791800-1487807700@xn--brgerverein-kornelimnster-fwct.de
SUMMARY:Empfang des Heerlener Narrenschiffs
DESCRIPTION:Ankunft des Heerlener Narrenschiffs „Blauwe Sjuut“\, Benediktusplatz in Kornelimünster
URL:https://xn--brgerverein-kornelimnster-fwct.de/event/empfang-des-heerlener-narrenschiffs/
LOCATION:Korneliusmarkt\, 52076 Aachen\, NRW
ATTACH;FMTTYPE=image/jpeg:https://xn--brgerverein-kornelimnster-fwct.de/wp-content/uploads/2015/11/img_38401.jpg
END:VEVENT
END:VCALENDAR