BEGIN:VCALENDAR
VERSION:2.0
PRODID:-//Bürgerverein Kornelimünster e.V. - ECPv6.15.18//NONSGML v1.0//EN
CALSCALE:GREGORIAN
METHOD:PUBLISH
X-ORIGINAL-URL:https://xn--brgerverein-kornelimnster-fwct.de
X-WR-CALDESC:Veranstaltungen für Bürgerverein Kornelimünster e.V.
REFRESH-INTERVAL;VALUE=DURATION:PT1H
X-Robots-Tag:noindex
X-PUBLISHED-TTL:PT1H
BEGIN:VTIMEZONE
TZID:Europe/Berlin
BEGIN:DAYLIGHT
TZOFFSETFROM:+0100
TZOFFSETTO:+0200
TZNAME:CEST
DTSTART:20160327T010000
END:DAYLIGHT
BEGIN:STANDARD
TZOFFSETFROM:+0200
TZOFFSETTO:+0100
TZNAME:CET
DTSTART:20161030T010000
END:STANDARD
BEGIN:DAYLIGHT
TZOFFSETFROM:+0100
TZOFFSETTO:+0200
TZNAME:CEST
DTSTART:20170326T010000
END:DAYLIGHT
BEGIN:STANDARD
TZOFFSETFROM:+0200
TZOFFSETTO:+0100
TZNAME:CET
DTSTART:20171029T010000
END:STANDARD
BEGIN:DAYLIGHT
TZOFFSETFROM:+0100
TZOFFSETTO:+0200
TZNAME:CEST
DTSTART:20180325T010000
END:DAYLIGHT
BEGIN:STANDARD
TZOFFSETFROM:+0200
TZOFFSETTO:+0100
TZNAME:CET
DTSTART:20181028T010000
END:STANDARD
END:VTIMEZONE
BEGIN:VEVENT
DTSTART;TZID=Europe/Berlin:20170212T150000
DTEND;TZID=Europe/Berlin:20170212T180000
DTSTAMP:20260421T162311
CREATED:20161006T202522Z
LAST-MODIFIED:20161006T202522Z
UID:512-1486911600-1486922400@xn--brgerverein-kornelimnster-fwct.de
SUMMARY:Kinderkostümfest der KG Orjenal Mönster Jonge 1971 e. V.
DESCRIPTION:Die KG Orjenal Mönster Jonge 1971 e. V. veranstaltet wieder das beliebte Kinderkostümfest. Alle Närrinnen und Narren – ob groß oder klein – sind herzlich eingeladen. Einlaß ist ab 14.00h; Ende gegen 18:00h geplant.
URL:https://xn--brgerverein-kornelimnster-fwct.de/event/kinderkostuemfest-der-kg-orjenal-moenster-jonge-1971-e-v-2/
LOCATION:Inda-Gymnasium\, Gangolfsweg 52\, Aachen\, NRW\, 52076\, Deutschland
ATTACH;FMTTYPE=image/jpeg:https://xn--brgerverein-kornelimnster-fwct.de/wp-content/uploads/2015/11/img_38401.jpg
END:VEVENT
END:VCALENDAR